BEGIN:VCALENDAR
VERSION:2.0
PRODID:-//wp-events-plugin.com//7.2.3.1//EN
TZID:Europe/Zurich
X-WR-TIMEZONE:Europe/Zurich
BEGIN:VEVENT
UID:2@lebensphase-3.ch
DTSTART;TZID=Europe/Zurich;VALUE=DATE:20260420
DTEND;TZID=Europe/Zurich;VALUE=DATE:20260425
DTSTAMP:20260415T092505Z
URL:https://www.lebensphase-3.ch/events/zirkus-fuer-alle-ferienwoche-20-24
 -april/
SUMMARY:Zirkus für alle - Ferienwoche
DESCRIPTION:\n\nEine Woche lang Zirkus erleben\nBist du zwischen 6 und 99 J
 ahre alt? Dann mach mit! Flyer herunterladen.\n\nKosten \nFr. 60.- pro Per
 son\, Fr. 40.- für jedes weitere direkte Familienmitglied\n\nAnmeldung\nb
 is spätestens 10. April 2026 an Soziokultur der Stadt Illnau-Effretikon
CATEGORIES:Einzelanlass,Spiel, Spass &amp; Bewegung
LOCATION:https://www.lebensphase-3.ch/wp-content/uploads/2026/03/Circus-f-a
 lle.pdf
END:VEVENT
BEGIN:VTIMEZONE
TZID:Europe/Zurich
X-LIC-LOCATION:Europe/Zurich
BEGIN:DAYLIGHT
DTSTART:20260329T030000
TZOFFSETFROM:+0100
TZOFFSETTO:+0200
TZNAME:CEST
END:DAYLIGHT
END:VTIMEZONE
END:VCALENDAR