BEGIN:VCALENDAR
VERSION:2.0
PRODID:-//wp-events-plugin.com//7.2.3.1//EN
TZID:Europe/Zurich
X-WR-TIMEZONE:Europe/Zurich
BEGIN:VEVENT
UID:5@lebensphase-3.ch
DTSTART;TZID=Europe/Zurich:20260625T133000
DTEND;TZID=Europe/Zurich:20260625T163000
DTSTAMP:20260411T172342Z
URL:https://www.lebensphase-3.ch/events/smartphone-fotokurs-im-zoo/
SUMMARY:Smartphone-Fotokurs im Zoo
DESCRIPTION:Unter dem Moto Spiel\, Spass und Bewegung organisieren wir eine
 n Smartphone-Fotokurs mit Jonas Wiemann im Zoo Zürich. Flyer herunterlade
 n\n\nZeit\nDonnerstag\, 25. Juni 2026\, 13.30 - 16.30 Uhr\n\nOrt\nZoo Zür
 ich\n\nKosten\nFr. 110.- für Mitglieder\, Fr. 134.- für Nichtmitglieder\
 n\nAnmeldung (maximal 12 Personen)\nbis 5. Juni 2026 per e_Mail
CATEGORIES:Bildung &amp; Kultur,Einzelanlass
LOCATION:Zoo Zürich\, Zürichbergstrasse 221\, 8044 Zürich\, Schweiz
GEO:47.38433;8.574485
X-APPLE-STRUCTURED-LOCATION;VALUE=URI;X-ADDRESS=Zürichbergstrasse 221\, 80
 44 Zürich\, Schweiz;X-APPLE-RADIUS=100;X-TITLE=Zoo Zürich:geo:47.38433,8
 .574485
END:VEVENT
BEGIN:VTIMEZONE
TZID:Europe/Zurich
X-LIC-LOCATION:Europe/Zurich
BEGIN:DAYLIGHT
DTSTART:20260329T030000
TZOFFSETFROM:+0100
TZOFFSETTO:+0200
TZNAME:CEST
END:DAYLIGHT
END:VTIMEZONE
END:VCALENDAR