BEGIN:VCALENDAR
VERSION:2.0
PRODID:-//wp-events-plugin.com//7.2.3.1//EN
TZID:Europe/Zurich
X-WR-TIMEZONE:Europe/Zurich
BEGIN:VEVENT
UID:46@lebensphase-3.ch
DTSTART;TZID=Europe/Zurich:20260410T083000
DTEND;TZID=Europe/Zurich:20261211T103000
DTSTAMP:20260414T131224Z
URL:https://www.lebensphase-3.ch/events/seniorenchor-probenplan/
SUMMARY:Seniorenchor 2026
DESCRIPTION:Der Probenplan 2026 wurde nochmals aktualisiert und kann hier h
 eruntergeladen werden.\n\nZeit:\n\n08:30 - 09:20 Männerchor\n09:30 - 10:3
 0 Gesamtchor\nSpezialanlässe am 10.7\, 24.7\, 26.8\, 27.11 und 11.12 gem
 äss Probeplan 2026
CATEGORIES:Singen,Wöchentlich
LOCATION:Alters- und Pflegezentrum Bruggwiesen\, Effretikon\, Märtplatz 19
 \, 8307 Effretikon\, Schweiz
GEO:47.427551;8.685354
X-APPLE-STRUCTURED-LOCATION;VALUE=URI;X-ADDRESS=Märtplatz 19\, 8307 Effret
 ikon\, Schweiz;X-APPLE-RADIUS=100;X-TITLE=Alters- und Pflegezentrum Bruggw
 iesen\, Effretikon:geo:47.427551,8.685354
END:VEVENT
BEGIN:VTIMEZONE
TZID:Europe/Zurich
X-LIC-LOCATION:Europe/Zurich
BEGIN:DAYLIGHT
DTSTART:20260329T030000
TZOFFSETFROM:+0100
TZOFFSETTO:+0200
TZNAME:CEST
END:DAYLIGHT
BEGIN:STANDARD
DTSTART:20261025T020000
TZOFFSETFROM:+0200
TZOFFSETTO:+0100
TZNAME:CET
END:STANDARD
END:VTIMEZONE
END:VCALENDAR