BEGIN:VCALENDAR
VERSION:2.0
PRODID:-//wp-events-plugin.com//7.2.3.1//EN
TZID:Europe/Zurich
X-WR-TIMEZONE:Europe/Zurich
BEGIN:VEVENT
UID:6@lebensphase-3.ch
DTSTART;TZID=Europe/Zurich:20260406T160000
DTEND;TZID=Europe/Zurich:20261228T165000
DTSTAMP:20260418T084834Z
URL:https://www.lebensphase-3.ch/events/qi-gong-2026/
SUMMARY:Qi Gong 2026
DESCRIPTION:\n\nQi Gong ist eine chinesische Meditations-\, Konzentrations-
  und Bewegungsform zur Kultivierung von Körper und Geist. Auch Kampfkunst
 -Übungen werden darunter verstanden. Zur Praxis gehören Atemübungen\, K
 örper- und Bewegungsübungen\, Konzentrationsübungen und Meditationsübu
 ngen. Die Übungen dienen der Harmonisierung und Regulierung des Qi-Flusse
 s im Körper.\nOrt :Die Qi Gong Kurse mit Karin Braun finden in der Turnha
 lle im Alters- u. Pflegezentrum Bruggwiesen Märtplatz 19\, Effretikon sta
 tt.\nZeit: Ab April 2026 jeden Montag (ausser Feiertage) 16:00 - 16:50 Uhr
 \nKosten:Abo für 10 Nachmittage (gültig während 3 Monaten) Mitglieder F
 r. 200.- Nichtmitglieder Fr. 220.-\nAnmeldung erforderlich an Karin BraunT
 elefon 079 945 62 94 oder karin.braun@jackyjane.ch\n
CATEGORIES:Spiel, Spass &amp; Bewegung,Wöchentlich
LOCATION:Turnhalle im Alters- u. Pflegezentrum Bruggwiesen\, Märtplatz 19\
 , 8307 Effretikon\, Schweiz
GEO:47.427551;8.685354
X-APPLE-STRUCTURED-LOCATION;VALUE=URI;X-ADDRESS=Märtplatz 19\, 8307 Effret
 ikon\, Schweiz;X-APPLE-RADIUS=100;X-TITLE=Turnhalle im Alters- u. Pflegeze
 ntrum Bruggwiesen:geo:47.427551,8.685354
END:VEVENT
BEGIN:VTIMEZONE
TZID:Europe/Zurich
X-LIC-LOCATION:Europe/Zurich
BEGIN:DAYLIGHT
DTSTART:20260329T030000
TZOFFSETFROM:+0100
TZOFFSETTO:+0200
TZNAME:CEST
END:DAYLIGHT
BEGIN:STANDARD
DTSTART:20261025T020000
TZOFFSETFROM:+0200
TZOFFSETTO:+0100
TZNAME:CET
END:STANDARD
END:VTIMEZONE
END:VCALENDAR