BEGIN:VCALENDAR
VERSION:2.0
PRODID:-//wp-events-plugin.com//7.2.3.1//EN
TZID:Europe/Zurich
X-WR-TIMEZONE:Europe/Zurich
BEGIN:VEVENT
UID:286@lebensphase-3.ch
DTSTART;TZID=Europe/Zurich:20260417T144500
DTEND;TZID=Europe/Zurich:20261023T173000
DTSTAMP:20260418T142337Z
URL:https://www.lebensphase-3.ch/events/petanque/
SUMMARY:Pétanque
DESCRIPTION:Pétanque (Boule) ist ein Kugelspiel für alle. Die Geschichte 
 des Boule-Spiels ist lang – in Frankreich hat man sie bis ins Jahr 1319 
 zurückverfolgt. Die Grundregeln sind einfach\; es lässt sich auf allen e
 benen\, kiesigen Flächen spielen\, speziell hergerichtetes Terrain ist ni
 cht nötig. Jung und Alt bereitet es viel Freude. Wer sich nicht mehr gut 
 bücken kann\, nimmt einen Magneten zur Hilfe\, um die Kugeln aufzuheben.\
 n\nLebensphase3 belebt die Anlagen\, die im Moosburgpark von der Stadt ber
 eitgestellt wurden. Am Freitag Nachmittag von Ende April bis Ende Oktober 
 treffen wir uns zum Spiel. Alle Seniorinnen und Senioren sind herzlich wil
 lkommen. Weitere Informationen erhalten Sie via email hier.\n\nKugeln sind
  vorhanden. Wer eigene Kugeln hat\, bringt sie mit. Bei Regen spielen wir 
 nicht\, im Zweifel wird auf dem Platz entschieden\, ob gespielt wird.\n\n
CATEGORIES:Spiel, Spass &amp; Bewegung,Wöchentlich
LOCATION:Spielplatz Moosburg\, Spielplatz Moosburg\, Effretikon\, Schweiz
GEO:47.425952;8.690082
X-APPLE-STRUCTURED-LOCATION;VALUE=URI;X-ADDRESS=Spielplatz Moosburg\, Effre
 tikon\, Schweiz;X-APPLE-RADIUS=100;X-TITLE=Spielplatz Moosburg:geo:47.4259
 52,8.690082
END:VEVENT
BEGIN:VTIMEZONE
TZID:Europe/Zurich
X-LIC-LOCATION:Europe/Zurich
BEGIN:DAYLIGHT
DTSTART:20260329T030000
TZOFFSETFROM:+0100
TZOFFSETTO:+0200
TZNAME:CEST
END:DAYLIGHT
END:VTIMEZONE
END:VCALENDAR