BEGIN:VCALENDAR
VERSION:2.0
PRODID:-//wp-events-plugin.com//7.2.3.1//EN
TZID:Europe/Zurich
X-WR-TIMEZONE:Europe/Zurich
BEGIN:VEVENT
UID:3@lebensphase-3.ch
DTSTART;TZID=Europe/Zurich:20260511T140000
DTEND;TZID=Europe/Zurich:20260511T170000
DTSTAMP:20260410T132939Z
URL:https://www.lebensphase-3.ch/events/minigolf-turnier-11-mai-2026/
SUMMARY:Minigolf Turnier
DESCRIPTION:Zeit\nMontag\, 11. Mai 2026\, 14.00 bis ca. 17 Uhr\n\nOrt\nSpor
 tzentrum Eselriet\, Effretikon\n\nKosten\nTeilnehmende zahlen Eintritt\, K
 onsumation etc. selber\n\nAnmeldung für das Mai-Turnier\nbis Montag 27. A
 pril 2026 an minigolflp3@gmx.ch\n\nFlyer herunterladen
CATEGORIES:Einzelanlass,Spiel, Spass &amp; Bewegung
LOCATION:Sportzentrum Eselriet\, Sportplatzstrasse 4\, 8307 Effretikon\, Sc
 hweiz
GEO:47.420337;8.701466
X-APPLE-STRUCTURED-LOCATION;VALUE=URI;X-ADDRESS=Sportplatzstrasse 4\, 8307 
 Effretikon\, Schweiz;X-APPLE-RADIUS=100;X-TITLE=Sportzentrum Eselriet:geo:
 47.420337,8.701466
END:VEVENT
BEGIN:VTIMEZONE
TZID:Europe/Zurich
X-LIC-LOCATION:Europe/Zurich
BEGIN:DAYLIGHT
DTSTART:20260329T030000
TZOFFSETFROM:+0100
TZOFFSETTO:+0200
TZNAME:CEST
END:DAYLIGHT
END:VTIMEZONE
END:VCALENDAR