BEGIN:VCALENDAR
VERSION:2.0
PRODID:-//wp-events-plugin.com//7.2.3.1//EN
TZID:Europe/Zurich
X-WR-TIMEZONE:Europe/Zurich
BEGIN:VEVENT
UID:78@lebensphase-3.ch
DTSTART;TZID=Europe/Zurich:20260422T094500
DTEND;TZID=Europe/Zurich:20260422T110000
DTSTAMP:20260418T084049Z
URL:https://www.lebensphase-3.ch/events/line-dance-improver-level/
SUMMARY:Line Dance - Improver Level
DESCRIPTION:Seit dem 19. September 2021 wird in Effretikon ein Line Dance K
 urs  angeboten. Frau Mariella Schellenberg\, erfahrene Line Dance Lehrer
 in\, begleitet den Kurs.\n\nLine Dance wird in der Gruppe getanzt. Man bra
 ucht dafür keinen Tanzpartner. Tänzerinnen und Tänzer stehen in einer L
 inie\, bilden eine Gruppen-Formation aus mehreren Reihen und führen die T
 anzbewegungen synchron aus.Wir tanzen zu Countrymusik\, zu modernen Songs 
 sowie auch zu alten Hits. Line Dance ist keine Frage des Alters und auch n
 icht des Geschlechts – es ist für alle geeignet\, die Freude am Tanzen\
 , an Bewegung und Musik haben. Es soll einfach Spass machen.\n\nOrt\nSaal 
 des Alters- und Pflegezentrums Bruggwiesen\, 8307 Effretikon\n\nZeit\njede
 n zweiten Mittwochjeweils von 9.45 bis 11.00 Uhr\n\nKosten pro LektionFr.
  20.- pro PersonFr. 18.- für Mitglieder lebensphase3\n\nAnmeldungper E-Ma
 il an Ursi Studer oder Tel. 079 637 83 50\n\n
CATEGORIES:Spiel, Spass &amp; Bewegung
LOCATION:Alters- und Pflegezentrum Bruggwiesen\, Effretikon\, Märtplatz 19
 \, 8307 Effretikon\, Schweiz
GEO:47.427551;8.685354
X-APPLE-STRUCTURED-LOCATION;VALUE=URI;X-ADDRESS=Märtplatz 19\, 8307 Effret
 ikon\, Schweiz;X-APPLE-RADIUS=100;X-TITLE=Alters- und Pflegezentrum Bruggw
 iesen\, Effretikon:geo:47.427551,8.685354
END:VEVENT
BEGIN:VTIMEZONE
TZID:Europe/Zurich
X-LIC-LOCATION:Europe/Zurich
BEGIN:DAYLIGHT
DTSTART:20260329T030000
TZOFFSETFROM:+0100
TZOFFSETTO:+0200
TZNAME:CEST
END:DAYLIGHT
END:VTIMEZONE
END:VCALENDAR