BEGIN:VCALENDAR
VERSION:2.0
PRODID:-//wp-events-plugin.com//7.2.3.1//EN
TZID:Europe/Zurich
X-WR-TIMEZONE:Europe/Zurich
BEGIN:VEVENT
UID:330@lebensphase-3.ch
DTSTART;TZID=Europe/Zurich:20260429T094500
DTEND;TZID=Europe/Zurich:20260708T110000
DTSTAMP:20260421T140310Z
URL:https://www.lebensphase-3.ch/events/line-dance-improver-level-2/
SUMMARY:Line Dance - Improver Level
DESCRIPTION:Line Dance wird in der Gruppe getanzt. Man braucht dafür keine
 n Tanzpartner. Tänzerinnen und Tänzer stehen in einer Linie\, bilden ein
 e Gruppen-Formation aus mehreren Reihen und führen die Tanzbewegungen syn
 chron aus.Wir tanzen zu Countrymusik\, zu modernen Songs sowie auch zu alt
 en Hits. Line Dance ist keine Frage des Alters und auch nicht des Geschlec
 hts – es ist für alle geeignet\, die Freude am Tanzen\, an Bewegung und
  Musik haben.\nEs soll einfach Spass machen.\nWeitere Informationen
CATEGORIES:Tanzen
LOCATION:Alters- und Pflegezentrum Bruggwiesen\, Effretikon\, Märtplatz 19
 \, 8307 Effretikon\, Schweiz
GEO:47.427551;8.685354
X-APPLE-STRUCTURED-LOCATION;VALUE=URI;X-ADDRESS=Märtplatz 19\, 8307 Effret
 ikon\, Schweiz;X-APPLE-RADIUS=100;X-TITLE=Alters- und Pflegezentrum Bruggw
 iesen\, Effretikon:geo:47.427551,8.685354
END:VEVENT
BEGIN:VTIMEZONE
TZID:Europe/Zurich
X-LIC-LOCATION:Europe/Zurich
BEGIN:DAYLIGHT
DTSTART:20260329T030000
TZOFFSETFROM:+0100
TZOFFSETTO:+0200
TZNAME:CEST
END:DAYLIGHT
END:VTIMEZONE
END:VCALENDAR