BEGIN:VCALENDAR
VERSION:2.0
PRODID:-//wp-events-plugin.com//7.2.3.1//EN
TZID:Europe/Zurich
X-WR-TIMEZONE:Europe/Zurich
BEGIN:VEVENT
UID:1@lebensphase-3.ch
DTSTART;TZID=Europe/Zurich:20260412T140000
DTEND;TZID=Europe/Zurich:20260412T160000
DTSTAMP:20260410T121011Z
URL:https://www.lebensphase-3.ch/events/handy-cafe-12-april-2026/
SUMMARY:Handy Café
DESCRIPTION:Ein Zug-Ticket lösen? Eine App herunterladen? Oder sonst eine 
 Frage zu Handy\, Tablet oder PC? Jugendliche der Oberstufe erklären es Ih
 nen gerne im Café Himmelwiit in unserem Pfarreizentrum. Dazu gibt es wie 
 immer Tee/Kaffee und Kuchen. Flyer herunterladen
CATEGORIES:Einzelanlass
LOCATION:Pfarreizentrum St. Martin\, Birchstrasse 20\, 8307 Effretikon\, Sc
 hweiz
GEO:47.429005;8.683341
X-APPLE-STRUCTURED-LOCATION;VALUE=URI;X-ADDRESS=Birchstrasse 20\, 8307 Effr
 etikon\, Schweiz;X-APPLE-RADIUS=100;X-TITLE=Pfarreizentrum St. Martin:geo:
 47.429005,8.683341
END:VEVENT
BEGIN:VTIMEZONE
TZID:Europe/Zurich
X-LIC-LOCATION:Europe/Zurich
BEGIN:DAYLIGHT
DTSTART:20260329T030000
TZOFFSETFROM:+0100
TZOFFSETTO:+0200
TZNAME:CEST
END:DAYLIGHT
END:VTIMEZONE
END:VCALENDAR