BEGIN:VCALENDAR
VERSION:2.0
PRODID:-//wp-events-plugin.com//7.2.3.1//EN
TZID:Europe/Zurich
X-WR-TIMEZONE:Europe/Zurich
BEGIN:VEVENT
UID:4@lebensphase-3.ch
DTSTART;TZID=Europe/Zurich:20260601T140000
DTEND;TZID=Europe/Zurich:20260601T163000
DTSTAMP:20260414T122909Z
URL:https://www.lebensphase-3.ch/events/e-bike-kurs/
SUMMARY:E-Bike-Kurs
DESCRIPTION:\n\nDu befährst unter kundiger Leitung und in einer kleinen Gr
 uppe (max. 8 Teilnehmende) eine attraktive E-Bike-Route deiner Region. Dur
 ch praktische Übungen lernst du dein E-Bike besser kennen und dich im Ver
 kehr optimal zu verhalten. Denn nur eine sichere Fahrt ist eine genussvoll
 e Fahrt. Ein geselliger Abschluss mit einer kleinen Verköstigung ist Teil
  des Programms und findet im Anschluss des E-Bike Kurses statt.\nFlyer her
 unterladen.\n\nZeit\nMontag\, 1. Juni 2026\n\nAnmeldung\nDieser Kurs ist a
 usgebucht. Möglicherweise wird er im Herbst wiederholt.
CATEGORIES:Bildung &amp; Kultur,Einzelanlass,Spiel, Spass &amp; Bewegung
LOCATION:Sportzentrum Effretikon\, Sportplatzstrasse 4\, 8307 Effretikon\, 
 Schweiz
GEO:47.420337;8.701466
X-APPLE-STRUCTURED-LOCATION;VALUE=URI;X-ADDRESS=Sportplatzstrasse 4\, 8307 
 Effretikon\, Schweiz;X-APPLE-RADIUS=100;X-TITLE=Sportzentrum Effretikon:ge
 o:47.420337,8.701466
END:VEVENT
BEGIN:VTIMEZONE
TZID:Europe/Zurich
X-LIC-LOCATION:Europe/Zurich
BEGIN:DAYLIGHT
DTSTART:20260329T030000
TZOFFSETFROM:+0100
TZOFFSETTO:+0200
TZNAME:CEST
END:DAYLIGHT
END:VTIMEZONE
END:VCALENDAR