BEGIN:VCALENDAR
VERSION:2.0
PRODID:-//wp-events-plugin.com//7.2.3.1//EN
TZID:Europe/Zurich
X-WR-TIMEZONE:Europe/Zurich
BEGIN:VEVENT
UID:69@lebensphase-3.ch
DTSTART;TZID=Europe/Zurich:20260413T090000
DTEND;TZID=Europe/Zurich:20260518T110000
DTSTAMP:20260414T122648Z
URL:https://www.lebensphase-3.ch/events/computeria/
SUMMARY:ComputeriA
DESCRIPTION:Unterstützung bei Problemen beim Arbeiten mit dem Computer\, T
 ablet oder Smartphone.\nUnkostenbeitrag Fr. 5.- je halbe Stunde.\n\nKeine 
 Anmeldung möglich - es geht der Reihe nach.\n\n
CATEGORIES:ComputeriA,Wöchentlich
LOCATION:Alters- und Pflegezentrum Bruggwiesen\, Effretikon\, Märtplatz 19
 \, 8307 Effretikon\, Schweiz
GEO:47.427551;8.685354
X-APPLE-STRUCTURED-LOCATION;VALUE=URI;X-ADDRESS=Märtplatz 19\, 8307 Effret
 ikon\, Schweiz;X-APPLE-RADIUS=100;X-TITLE=Alters- und Pflegezentrum Bruggw
 iesen\, Effretikon:geo:47.427551,8.685354
END:VEVENT
BEGIN:VTIMEZONE
TZID:Europe/Zurich
X-LIC-LOCATION:Europe/Zurich
BEGIN:DAYLIGHT
DTSTART:20260329T030000
TZOFFSETFROM:+0100
TZOFFSETTO:+0200
TZNAME:CEST
END:DAYLIGHT
END:VTIMEZONE
END:VCALENDAR